BEGIN:VCALENDAR
VERSION:2.0
PRODID:-//wp-events-plugin.com//7.2.3.1//EN
TZID:America/New_York
X-WR-TIMEZONE:America/New_York
BEGIN:VEVENT
UID:2227@local144.centredeformation.ca
DTSTART;TZID=America/New_York:20251027T160000
DTEND;TZID=America/New_York:20251130T200000
DTSTAMP:20250807T184235Z
URL:https://local144.centredeformation.ca/events/fabrication-temps-partiel
 /
SUMMARY:Fabrication - temps partiel
DESCRIPTION:\n 	1ère semaine: lundi 27 octobre\, mardi 28 octobre\, jeudi 
 30 octobre (de 16h à 20h)\n 	2e semaine: dimanche 2 novembre (de 7h à 15
 h30 )\, lundi 3 novembre\, mardi 4 novembre\, jeudi 6 novembre (de 16h à 
 20h)\n 	3e semaine: mardi 11 novembre\, jeudi 13 novembre (de 16h à 20h)\
 n 	4e semaine: dimanche 16 novembre (de 7h à 15h30)\, lundi 17 novembre\,
  mardi 18 novembre\, jeudi 20 novembre (de 16h à 20h)\n 	5e semaine: dima
 nche 23 novembre (de 7h à 15h30 )\, lundi 24 novembre\, mardi 25 novembre
  (de 16h à 20h)\n 	6e semaine: dimanche 30 novembre\, (de 7h à 15h30 )\n
CATEGORIES:Fabrication
LOCATION:Centre de formation du Local 144\, 12780\, boul. Industriel\, Poin
 te-aux-Trembles\, Québec\, H1A 3V2\, Toutes les régions\, Canada
X-APPLE-STRUCTURED-LOCATION;VALUE=URI;X-ADDRESS=12780\, boul. Industriel\, 
 Pointe-aux-Trembles\, Québec\, H1A 3V2\, Toutes les régions\, Canada;X-A
 PPLE-RADIUS=100;X-TITLE=Centre de formation du Local 144:geo:0,0
END:VEVENT
BEGIN:VTIMEZONE
TZID:America/New_York
X-LIC-LOCATION:America/New_York
BEGIN:DAYLIGHT
DTSTART:20250309T030000
TZOFFSETFROM:-0500
TZOFFSETTO:-0400
TZNAME:EDT
END:DAYLIGHT
BEGIN:STANDARD
DTSTART:20251102T010000
TZOFFSETFROM:-0400
TZOFFSETTO:-0500
TZNAME:EST
END:STANDARD
END:VTIMEZONE
END:VCALENDAR