BEGIN:VCALENDAR
VERSION:2.0
PRODID:-//wp-events-plugin.com//7.2.3.1//EN
TZID:America/New_York
X-WR-TIMEZONE:America/New_York
BEGIN:VEVENT
UID:2226@local144.centredeformation.ca
DTSTART;TZID=America/New_York:20250923T160000
DTEND;TZID=America/New_York:20251009T200000
DTSTAMP:20250807T185404Z
URL:https://local144.centredeformation.ca/events/greage-et-elingage-riggin
 g-9/
SUMMARY:Gréage et élingage (rigging) - Temps partiel
DESCRIPTION:\n 	1ère semaine: mardi 23 septembre\, mercredi 24 septembre e
 t jeudi 25 septembre (de 16 h à 20 h)\n 	2e semaine: mardi 30 septembre\,
  mercredi 1er octobre et jeudi 2 octobre (de 16 h à 20 h)\n 	3e semaine: 
 lundi 6 octobre et mardi 7 octobre ou mercredi 8 octobre ou jeudi 9 octobr
 e (de 16 h à 20 h)\n
CATEGORIES:Gréage et élingage (rigging)
LOCATION:Centre de formation du Local 144\, 12780\, boul. Industriel\, Poin
 te-aux-Trembles\, Québec\, H1A 3V2\, Toutes les régions\, Canada
X-APPLE-STRUCTURED-LOCATION;VALUE=URI;X-ADDRESS=12780\, boul. Industriel\, 
 Pointe-aux-Trembles\, Québec\, H1A 3V2\, Toutes les régions\, Canada;X-A
 PPLE-RADIUS=100;X-TITLE=Centre de formation du Local 144:geo:0,0
END:VEVENT
BEGIN:VTIMEZONE
TZID:America/New_York
X-LIC-LOCATION:America/New_York
BEGIN:DAYLIGHT
DTSTART:20250309T030000
TZOFFSETFROM:-0500
TZOFFSETTO:-0400
TZNAME:EDT
END:DAYLIGHT
END:VTIMEZONE
END:VCALENDAR